BEGIN:VCALENDAR
VERSION:2.0
PRODID:-//Colegio Hans Christian Andersen - ECPv6.15.11//NONSGML v1.0//EN
CALSCALE:GREGORIAN
METHOD:PUBLISH
X-WR-CALNAME:Colegio Hans Christian Andersen
X-ORIGINAL-URL:https://hanschristianandersen.edu.pe
X-WR-CALDESC:Eventos para Colegio Hans Christian Andersen
REFRESH-INTERVAL;VALUE=DURATION:PT1H
X-Robots-Tag:noindex
X-PUBLISHED-TTL:PT1H
BEGIN:VTIMEZONE
TZID:UTC
BEGIN:STANDARD
TZOFFSETFROM:+0000
TZOFFSETTO:+0000
TZNAME:UTC
DTSTART:20240101T000000
END:STANDARD
END:VTIMEZONE
BEGIN:VEVENT
DTSTART;VALUE=DATE:20251013
DTEND;VALUE=DATE:20251018
DTSTAMP:20260420T210859
CREATED:20250314T144619Z
LAST-MODIFIED:20250314T144619Z
UID:6868-1760313600-1760745599@hanschristianandersen.edu.pe
SUMMARY:Vacaciones de estudiantes
DESCRIPTION:
URL:https://hanschristianandersen.edu.pe/event/vacaciones-de-estudiantes-8/
END:VEVENT
BEGIN:VEVENT
DTSTART;VALUE=DATE:20251017
DTEND;VALUE=DATE:20251018
DTSTAMP:20260420T210859
CREATED:20250314T144709Z
LAST-MODIFIED:20250314T144709Z
UID:6870-1760659200-1760745599@hanschristianandersen.edu.pe
SUMMARY:Informe de progreso III Bimestre
DESCRIPTION:
URL:https://hanschristianandersen.edu.pe/event/informe-de-progreso-iii-bimestre/
END:VEVENT
BEGIN:VEVENT
DTSTART;VALUE=DATE:20251022
DTEND;VALUE=DATE:20251023
DTSTAMP:20260420T210859
CREATED:20250314T144746Z
LAST-MODIFIED:20251003T144549Z
UID:6872-1761091200-1761177599@hanschristianandersen.edu.pe
SUMMARY:4to Encuentro de familias y docentes
DESCRIPTION:
URL:https://hanschristianandersen.edu.pe/event/4to-encuentro-de-familias-y-docentes-4/
END:VEVENT
BEGIN:VEVENT
DTSTART;VALUE=DATE:20251023
DTEND;VALUE=DATE:20251024
DTSTAMP:20260420T210859
CREATED:20250314T144855Z
LAST-MODIFIED:20251003T144634Z
UID:6874-1761177600-1761263999@hanschristianandersen.edu.pe
SUMMARY:4to Encuentro de familias y docentes
DESCRIPTION:
URL:https://hanschristianandersen.edu.pe/event/4to-encuentro-de-familias-y-docentes-5/
END:VEVENT
BEGIN:VEVENT
DTSTART;VALUE=DATE:20251031
DTEND;VALUE=DATE:20251101
DTSTAMP:20260420T210859
CREATED:20250314T144544Z
LAST-MODIFIED:20251003T144816Z
UID:6866-1761868800-1761955199@hanschristianandersen.edu.pe
SUMMARY:Hans Art Fest
DESCRIPTION:
URL:https://hanschristianandersen.edu.pe/event/hans-art-fest-2/
END:VEVENT
END:VCALENDAR