BEGIN:VCALENDAR
VERSION:2.0
PRODID:-//Colegio Hans Christian Andersen - ECPv6.15.11//NONSGML v1.0//EN
CALSCALE:GREGORIAN
METHOD:PUBLISH
X-ORIGINAL-URL:https://hanschristianandersen.edu.pe
X-WR-CALDESC:Eventos para Colegio Hans Christian Andersen
REFRESH-INTERVAL;VALUE=DURATION:PT1H
X-Robots-Tag:noindex
X-PUBLISHED-TTL:PT1H
BEGIN:VTIMEZONE
TZID:UTC
BEGIN:STANDARD
TZOFFSETFROM:+0000
TZOFFSETTO:+0000
TZNAME:UTC
DTSTART:20240101T000000
END:STANDARD
END:VTIMEZONE
BEGIN:VEVENT
DTSTART;VALUE=DATE:20250704
DTEND;VALUE=DATE:20250705
DTSTAMP:20260420T162817
CREATED:20250314T135926Z
LAST-MODIFIED:20250314T135937Z
UID:6837-1751587200-1751673599@hanschristianandersen.edu.pe
SUMMARY:Día del maestro andersino (no laborable)
DESCRIPTION:
URL:https://hanschristianandersen.edu.pe/event/dia-del-maestro-andresino-no-laborable/
END:VEVENT
BEGIN:VEVENT
DTSTART;VALUE=DATE:20250715
DTEND;VALUE=DATE:20250716
DTSTAMP:20260420T162817
CREATED:20250314T140116Z
LAST-MODIFIED:20250314T140116Z
UID:6840-1752537600-1752623999@hanschristianandersen.edu.pe
SUMMARY:Presentación de proyectos   inicial y primaria baja
DESCRIPTION:
URL:https://hanschristianandersen.edu.pe/event/presentacion-de-proyectos-inicial-y-primaria-baja/
END:VEVENT
BEGIN:VEVENT
DTSTART;VALUE=DATE:20250715
DTEND;VALUE=DATE:20250716
DTSTAMP:20260420T162817
CREATED:20250528T220511Z
LAST-MODIFIED:20250528T220548Z
UID:6903-1752537600-1752623999@hanschristianandersen.edu.pe
SUMMARY:III Open Day
DESCRIPTION:
URL:https://hanschristianandersen.edu.pe/event/iii-open-day/
END:VEVENT
BEGIN:VEVENT
DTSTART;VALUE=DATE:20250716
DTEND;VALUE=DATE:20250717
DTSTAMP:20260420T162817
CREATED:20250314T140153Z
LAST-MODIFIED:20250314T140153Z
UID:6842-1752624000-1752710399@hanschristianandersen.edu.pe
SUMMARY:Presentación de proyectos - Primaria alta
DESCRIPTION:
URL:https://hanschristianandersen.edu.pe/event/presentacion-de-proyectos-primaria-alta/
END:VEVENT
BEGIN:VEVENT
DTSTART;VALUE=DATE:20250717
DTEND;VALUE=DATE:20250718
DTSTAMP:20260420T162817
CREATED:20250314T140228Z
LAST-MODIFIED:20250314T140228Z
UID:6844-1752710400-1752796799@hanschristianandersen.edu.pe
SUMMARY:Presentación de proyectos - Secundaria
DESCRIPTION:
URL:https://hanschristianandersen.edu.pe/event/presentacion-de-proyectos-secundaria/
END:VEVENT
BEGIN:VEVENT
DTSTART;VALUE=DATE:20250728
DTEND;VALUE=DATE:20250802
DTSTAMP:20260420T162817
CREATED:20250314T140330Z
LAST-MODIFIED:20250314T140330Z
UID:6846-1753660800-1754092799@hanschristianandersen.edu.pe
SUMMARY:Vacaciones de estudiantes
DESCRIPTION:
URL:https://hanschristianandersen.edu.pe/event/vacaciones-de-estudiantes-6/
END:VEVENT
END:VCALENDAR