BEGIN:VCALENDAR
VERSION:2.0
PRODID:-//Colegio Hans Christian Andersen - ECPv6.15.11//NONSGML v1.0//EN
CALSCALE:GREGORIAN
METHOD:PUBLISH
X-WR-CALNAME:Colegio Hans Christian Andersen
X-ORIGINAL-URL:https://hanschristianandersen.edu.pe
X-WR-CALDESC:Eventos para Colegio Hans Christian Andersen
REFRESH-INTERVAL;VALUE=DURATION:PT1H
X-Robots-Tag:noindex
X-PUBLISHED-TTL:PT1H
BEGIN:VTIMEZONE
TZID:UTC
BEGIN:STANDARD
TZOFFSETFROM:+0000
TZOFFSETTO:+0000
TZNAME:UTC
DTSTART:20240101T000000
END:STANDARD
END:VTIMEZONE
BEGIN:VEVENT
DTSTART;VALUE=DATE:20250512
DTEND;VALUE=DATE:20250517
DTSTAMP:20260420T131949
CREATED:20250312T220317Z
LAST-MODIFIED:20250312T220317Z
UID:6819-1747008000-1747439999@hanschristianandersen.edu.pe
SUMMARY:Vacaciones de estudiantes
DESCRIPTION:
URL:https://hanschristianandersen.edu.pe/event/vacaciones-de-estudiantes-5/
END:VEVENT
BEGIN:VEVENT
DTSTART;VALUE=DATE:20250516
DTEND;VALUE=DATE:20250517
DTSTAMP:20260420T131949
CREATED:20250312T220413Z
LAST-MODIFIED:20250314T145640Z
UID:6821-1747353600-1747439999@hanschristianandersen.edu.pe
SUMMARY:Informe de progreso I Bimestre
DESCRIPTION:
URL:https://hanschristianandersen.edu.pe/event/informe-de-progreso-i-bimestre-2/
END:VEVENT
BEGIN:VEVENT
DTSTART;VALUE=DATE:20250519
DTEND;VALUE=DATE:20250520
DTSTAMP:20260420T131949
CREATED:20250312T220447Z
LAST-MODIFIED:20250312T220447Z
UID:6823-1747612800-1747699199@hanschristianandersen.edu.pe
SUMMARY:Inicio de clase II Bimestre
DESCRIPTION:
URL:https://hanschristianandersen.edu.pe/event/inicio-de-clase-ii-bimestre/
END:VEVENT
BEGIN:VEVENT
DTSTART;VALUE=DATE:20250519
DTEND;VALUE=DATE:20250524
DTSTAMP:20260420T131949
CREATED:20250312T220709Z
LAST-MODIFIED:20250312T220709Z
UID:6829-1747612800-1748044799@hanschristianandersen.edu.pe
SUMMARY:Semana de la educación inicial
DESCRIPTION:
URL:https://hanschristianandersen.edu.pe/event/semana-de-la-educacion-inicial-2/
END:VEVENT
BEGIN:VEVENT
DTSTART;VALUE=DATE:20250521
DTEND;VALUE=DATE:20250522
DTSTAMP:20260420T131949
CREATED:20250312T220606Z
LAST-MODIFIED:20250312T220606Z
UID:6825-1747785600-1747871999@hanschristianandersen.edu.pe
SUMMARY:2do Encuentro de familias y docentes
DESCRIPTION:
URL:https://hanschristianandersen.edu.pe/event/2do-encuentro-de-familias-y-docentes-3/
END:VEVENT
BEGIN:VEVENT
DTSTART;VALUE=DATE:20250522
DTEND;VALUE=DATE:20250523
DTSTAMP:20260420T131949
CREATED:20250312T220634Z
LAST-MODIFIED:20250312T220634Z
UID:6827-1747872000-1747958399@hanschristianandersen.edu.pe
SUMMARY:2do Encuentro de familias y docentes
DESCRIPTION:
URL:https://hanschristianandersen.edu.pe/event/2do-encuentro-de-familias-y-docentes-4/
END:VEVENT
BEGIN:VEVENT
DTSTART;VALUE=DATE:20250525
DTEND;VALUE=DATE:20250526
DTSTAMP:20260420T131949
CREATED:20250312T215147Z
LAST-MODIFIED:20250314T145657Z
UID:6809-1748131200-1748217599@hanschristianandersen.edu.pe
SUMMARY:Informe académico parcial
DESCRIPTION:
URL:https://hanschristianandersen.edu.pe/event/informe-academico-parcial-5/
END:VEVENT
END:VCALENDAR