BEGIN:VCALENDAR
VERSION:2.0
PRODID:-//Colegio Hans Christian Andersen - ECPv6.15.11//NONSGML v1.0//EN
CALSCALE:GREGORIAN
METHOD:PUBLISH
X-ORIGINAL-URL:https://hanschristianandersen.edu.pe
X-WR-CALDESC:Eventos para Colegio Hans Christian Andersen
REFRESH-INTERVAL;VALUE=DURATION:PT1H
X-Robots-Tag:noindex
X-PUBLISHED-TTL:PT1H
BEGIN:VTIMEZONE
TZID:UTC
BEGIN:STANDARD
TZOFFSETFROM:+0000
TZOFFSETTO:+0000
TZNAME:UTC
DTSTART:20240101T000000
END:STANDARD
END:VTIMEZONE
BEGIN:VEVENT
DTSTART;VALUE=DATE:20250127
DTEND;VALUE=DATE:20250222
DTSTAMP:20260420T073750
CREATED:20250204T215757Z
LAST-MODIFIED:20250204T215831Z
UID:6743-1737936000-1740182399@hanschristianandersen.edu.pe
SUMMARY:Proceso de matrícula 2025
DESCRIPTION:
URL:https://hanschristianandersen.edu.pe/event/inicio-proceso-de-matricula-2025/
END:VEVENT
END:VCALENDAR