BEGIN:VCALENDAR
VERSION:2.0
PRODID:-//Colegio Hans Christian Andersen - ECPv6.15.11//NONSGML v1.0//EN
CALSCALE:GREGORIAN
METHOD:PUBLISH
X-ORIGINAL-URL:https://hanschristianandersen.edu.pe
X-WR-CALDESC:Eventos para Colegio Hans Christian Andersen
REFRESH-INTERVAL;VALUE=DURATION:PT1H
X-Robots-Tag:noindex
X-PUBLISHED-TTL:PT1H
BEGIN:VTIMEZONE
TZID:UTC
BEGIN:STANDARD
TZOFFSETFROM:+0000
TZOFFSETTO:+0000
TZNAME:UTC
DTSTART:20230101T000000
END:STANDARD
END:VTIMEZONE
BEGIN:VEVENT
DTSTART;VALUE=DATE:20240722
DTEND;VALUE=DATE:20240803
DTSTAMP:20260420T091946
CREATED:20240213T164434Z
LAST-MODIFIED:20240213T164655Z
UID:5518-1721606400-1722643199@hanschristianandersen.edu.pe
SUMMARY:Vacaciones de estudiantes
DESCRIPTION:
URL:https://hanschristianandersen.edu.pe/event/vacaciones-de-estudiantes-3/
END:VEVENT
BEGIN:VEVENT
DTSTART;VALUE=DATE:20240805
DTEND;VALUE=DATE:20240806
DTSTAMP:20260420T091946
CREATED:20240213T164825Z
LAST-MODIFIED:20240213T164825Z
UID:5523-1722816000-1722902399@hanschristianandersen.edu.pe
SUMMARY:Inicio de clases
DESCRIPTION:
URL:https://hanschristianandersen.edu.pe/event/inicio-de-clases-2/
END:VEVENT
BEGIN:VEVENT
DTSTART;VALUE=DATE:20240809
DTEND;VALUE=DATE:20240810
DTSTAMP:20260420T091946
CREATED:20240213T164905Z
LAST-MODIFIED:20240213T164905Z
UID:5525-1723161600-1723247999@hanschristianandersen.edu.pe
SUMMARY:Informe de progreso II Bimestre
DESCRIPTION:
URL:https://hanschristianandersen.edu.pe/event/informe-de-progreso-ii-bimestre/
END:VEVENT
BEGIN:VEVENT
DTSTART;VALUE=DATE:20240814
DTEND;VALUE=DATE:20240815
DTSTAMP:20260420T091946
CREATED:20240213T164959Z
LAST-MODIFIED:20240213T164959Z
UID:5527-1723593600-1723679999@hanschristianandersen.edu.pe
SUMMARY:3er Encuentro de familias y docentes
DESCRIPTION:
URL:https://hanschristianandersen.edu.pe/event/3er-encuentro-de-familias-y-docentes/
END:VEVENT
BEGIN:VEVENT
DTSTART;VALUE=DATE:20240815
DTEND;VALUE=DATE:20240816
DTSTAMP:20260420T091946
CREATED:20240213T165035Z
LAST-MODIFIED:20240213T165035Z
UID:5529-1723680000-1723766399@hanschristianandersen.edu.pe
SUMMARY:3er Encuentro de familias y docentes
DESCRIPTION:
URL:https://hanschristianandersen.edu.pe/event/3er-encuentro-de-familias-y-docentes-2/
END:VEVENT
BEGIN:VEVENT
DTSTART;VALUE=DATE:20240816
DTEND;VALUE=DATE:20240817
DTSTAMP:20260420T091946
CREATED:20240213T165104Z
LAST-MODIFIED:20240213T165104Z
UID:5531-1723766400-1723852799@hanschristianandersen.edu.pe
SUMMARY:3er Encuentro de familias y docentes
DESCRIPTION:3er Encuentro de familias y docentes
URL:https://hanschristianandersen.edu.pe/event/3er-encuentro-de-familias-y-docentes-3/
END:VEVENT
BEGIN:VEVENT
DTSTART;VALUE=DATE:20240821
DTEND;VALUE=DATE:20240822
DTSTAMP:20260420T091946
CREATED:20240213T165155Z
LAST-MODIFIED:20240213T165155Z
UID:5533-1724198400-1724284799@hanschristianandersen.edu.pe
SUMMARY:Feria vocacional 4° y 5° de secundaria
DESCRIPTION:
URL:https://hanschristianandersen.edu.pe/event/feria-vocacional-4-y-5-de-secundaria/
END:VEVENT
END:VCALENDAR