BEGIN:VCALENDAR
VERSION:2.0
PRODID:-//Colegio Hans Christian Andersen - ECPv6.15.11//NONSGML v1.0//EN
CALSCALE:GREGORIAN
METHOD:PUBLISH
X-ORIGINAL-URL:https://hanschristianandersen.edu.pe
X-WR-CALDESC:Eventos para Colegio Hans Christian Andersen
REFRESH-INTERVAL;VALUE=DURATION:PT1H
X-Robots-Tag:noindex
X-PUBLISHED-TTL:PT1H
BEGIN:VTIMEZONE
TZID:UTC
BEGIN:STANDARD
TZOFFSETFROM:+0000
TZOFFSETTO:+0000
TZNAME:UTC
DTSTART:20230101T000000
END:STANDARD
END:VTIMEZONE
BEGIN:VEVENT
DTSTART;VALUE=DATE:20240704
DTEND;VALUE=DATE:20240705
DTSTAMP:20260420T104824
CREATED:20240213T162755Z
LAST-MODIFIED:20240213T162755Z
UID:5510-1720051200-1720137599@hanschristianandersen.edu.pe
SUMMARY:Celebración del maestro andersino
DESCRIPTION:
URL:https://hanschristianandersen.edu.pe/event/celebracion-del-maestro-andersino/
END:VEVENT
BEGIN:VEVENT
DTSTART;VALUE=DATE:20240705
DTEND;VALUE=DATE:20240706
DTSTAMP:20260420T104824
CREATED:20240213T162937Z
LAST-MODIFIED:20240213T164608Z
UID:5512-1720137600-1720223999@hanschristianandersen.edu.pe
SUMMARY:Día del maestro andersino
DESCRIPTION:
URL:https://hanschristianandersen.edu.pe/event/dia-del-maestro-andersino/
END:VEVENT
BEGIN:VEVENT
DTSTART;VALUE=DATE:20240710
DTEND;VALUE=DATE:20240711
DTSTAMP:20260420T104824
CREATED:20240213T164244Z
LAST-MODIFIED:20240213T164244Z
UID:5514-1720569600-1720655999@hanschristianandersen.edu.pe
SUMMARY:Debate Hans
DESCRIPTION:
URL:https://hanschristianandersen.edu.pe/event/debate-hans/
END:VEVENT
BEGIN:VEVENT
DTSTART;VALUE=DATE:20240719
DTEND;VALUE=DATE:20240720
DTSTAMP:20260420T104824
CREATED:20240213T164347Z
LAST-MODIFIED:20240213T164347Z
UID:5516-1721347200-1721433599@hanschristianandersen.edu.pe
SUMMARY:Celebración Fiestas Patrias
DESCRIPTION:
URL:https://hanschristianandersen.edu.pe/event/celebracion-fiestas-patrias/
END:VEVENT
BEGIN:VEVENT
DTSTART;VALUE=DATE:20240722
DTEND;VALUE=DATE:20240803
DTSTAMP:20260420T104824
CREATED:20240213T164434Z
LAST-MODIFIED:20240213T164655Z
UID:5518-1721606400-1722643199@hanschristianandersen.edu.pe
SUMMARY:Vacaciones de estudiantes
DESCRIPTION:
URL:https://hanschristianandersen.edu.pe/event/vacaciones-de-estudiantes-3/
END:VEVENT
BEGIN:VEVENT
DTSTART;VALUE=DATE:20240729
DTEND;VALUE=DATE:20240730
DTSTAMP:20260420T104824
CREATED:20240213T164513Z
LAST-MODIFIED:20240213T164513Z
UID:5520-1722211200-1722297599@hanschristianandersen.edu.pe
SUMMARY:Fiestas Patrias
DESCRIPTION:
URL:https://hanschristianandersen.edu.pe/event/fiestas-patrias/
END:VEVENT
END:VCALENDAR