BEGIN:VCALENDAR
VERSION:2.0
PRODID:-//Colegio Hans Christian Andersen - ECPv6.15.11//NONSGML v1.0//EN
CALSCALE:GREGORIAN
METHOD:PUBLISH
X-WR-CALNAME:Colegio Hans Christian Andersen
X-ORIGINAL-URL:https://hanschristianandersen.edu.pe
X-WR-CALDESC:Eventos para Colegio Hans Christian Andersen
REFRESH-INTERVAL;VALUE=DURATION:PT1H
X-Robots-Tag:noindex
X-PUBLISHED-TTL:PT1H
BEGIN:VTIMEZONE
TZID:UTC
BEGIN:STANDARD
TZOFFSETFROM:+0000
TZOFFSETTO:+0000
TZNAME:UTC
DTSTART:20230101T000000
END:STANDARD
END:VTIMEZONE
BEGIN:VEVENT
DTSTART;VALUE=DATE:20240601
DTEND;VALUE=DATE:20240602
DTSTAMP:20260420T121724
CREATED:20240213T161954Z
LAST-MODIFIED:20240213T161954Z
UID:5504-1717200000-1717286399@hanschristianandersen.edu.pe
SUMMARY:Día de la Familia Andersina
DESCRIPTION:
URL:https://hanschristianandersen.edu.pe/event/dia-de-la-familia-andersina/
END:VEVENT
BEGIN:VEVENT
DTSTART;VALUE=DATE:20240627
DTEND;VALUE=DATE:20240628
DTSTAMP:20260420T121724
CREATED:20240213T162122Z
LAST-MODIFIED:20240213T162122Z
UID:5506-1719446400-1719532799@hanschristianandersen.edu.pe
SUMMARY:Hans tiene Voz
DESCRIPTION:
URL:https://hanschristianandersen.edu.pe/event/hans-tiene-voz-2/
END:VEVENT
BEGIN:VEVENT
DTSTART;VALUE=DATE:20240628
DTEND;VALUE=DATE:20240629
DTSTAMP:20260420T121724
CREATED:20240213T162232Z
LAST-MODIFIED:20240213T162404Z
UID:5508-1719532800-1719619199@hanschristianandersen.edu.pe
SUMMARY:Informe académico parcial
DESCRIPTION:
URL:https://hanschristianandersen.edu.pe/event/informe-academico-parcial-2/
END:VEVENT
END:VCALENDAR