BEGIN:VCALENDAR
VERSION:2.0
PRODID:-//Colegio Hans Christian Andersen - ECPv6.15.11//NONSGML v1.0//EN
CALSCALE:GREGORIAN
METHOD:PUBLISH
X-WR-CALNAME:Colegio Hans Christian Andersen
X-ORIGINAL-URL:https://hanschristianandersen.edu.pe
X-WR-CALDESC:Eventos para Colegio Hans Christian Andersen
REFRESH-INTERVAL;VALUE=DURATION:PT1H
X-Robots-Tag:noindex
X-PUBLISHED-TTL:PT1H
BEGIN:VTIMEZONE
TZID:UTC
BEGIN:STANDARD
TZOFFSETFROM:+0000
TZOFFSETTO:+0000
TZNAME:UTC
DTSTART:20230101T000000
END:STANDARD
END:VTIMEZONE
BEGIN:VEVENT
DTSTART;VALUE=DATE:20240503
DTEND;VALUE=DATE:20240504
DTSTAMP:20260420T134043
CREATED:20240213T161146Z
LAST-MODIFIED:20240213T161146Z
UID:5490-1714694400-1714780799@hanschristianandersen.edu.pe
SUMMARY:Math Hans
DESCRIPTION:
URL:https://hanschristianandersen.edu.pe/event/math-hans/
END:VEVENT
BEGIN:VEVENT
DTSTART;VALUE=DATE:20240513
DTEND;VALUE=DATE:20240518
DTSTAMP:20260420T134043
CREATED:20240213T161319Z
LAST-MODIFIED:20240213T161825Z
UID:5492-1715558400-1715990399@hanschristianandersen.edu.pe
SUMMARY:Vacaciones de estudiantes
DESCRIPTION:
URL:https://hanschristianandersen.edu.pe/event/vacaciones-de-estudiantes-2/
END:VEVENT
BEGIN:VEVENT
DTSTART;VALUE=DATE:20240520
DTEND;VALUE=DATE:20240525
DTSTAMP:20260420T134043
CREATED:20240213T161709Z
LAST-MODIFIED:20240213T161709Z
UID:5502-1716163200-1716595199@hanschristianandersen.edu.pe
SUMMARY:Semana de la educación inicial
DESCRIPTION:
URL:https://hanschristianandersen.edu.pe/event/semana-de-la-educacion-inicial/
END:VEVENT
BEGIN:VEVENT
DTSTART;VALUE=DATE:20240522
DTEND;VALUE=DATE:20240523
DTSTAMP:20260420T134043
CREATED:20240213T161520Z
LAST-MODIFIED:20240429T220431Z
UID:5496-1716336000-1716422399@hanschristianandersen.edu.pe
SUMMARY:2do Encuentro de familias y docentes
DESCRIPTION:
URL:https://hanschristianandersen.edu.pe/event/2do-encuentro-de-familias-y-docentes/
END:VEVENT
BEGIN:VEVENT
DTSTART;VALUE=DATE:20240523
DTEND;VALUE=DATE:20240524
DTSTAMP:20260420T134043
CREATED:20240213T161547Z
LAST-MODIFIED:20240429T220535Z
UID:5498-1716422400-1716508799@hanschristianandersen.edu.pe
SUMMARY:2do Encuentro de familias y docentes
DESCRIPTION:
URL:https://hanschristianandersen.edu.pe/event/2do-encuentro-de-familias-y-docentes-2/
END:VEVENT
BEGIN:VEVENT
DTSTART;VALUE=DATE:20240524
DTEND;VALUE=DATE:20240525
DTSTAMP:20260420T134043
CREATED:20240213T161420Z
LAST-MODIFIED:20240213T161420Z
UID:5494-1716508800-1716595199@hanschristianandersen.edu.pe
SUMMARY:Informe de progreso I Bimestre
DESCRIPTION:
URL:https://hanschristianandersen.edu.pe/event/informe-de-progreso-i-bimestre/
END:VEVENT
END:VCALENDAR