BEGIN:VCALENDAR
VERSION:2.0
PRODID:-//Colegio Hans Christian Andersen - ECPv6.15.11//NONSGML v1.0//EN
CALSCALE:GREGORIAN
METHOD:PUBLISH
X-WR-CALNAME:Colegio Hans Christian Andersen
X-ORIGINAL-URL:https://hanschristianandersen.edu.pe
X-WR-CALDESC:Eventos para Colegio Hans Christian Andersen
REFRESH-INTERVAL;VALUE=DURATION:PT1H
X-Robots-Tag:noindex
X-PUBLISHED-TTL:PT1H
BEGIN:VTIMEZONE
TZID:UTC
BEGIN:STANDARD
TZOFFSETFROM:+0000
TZOFFSETTO:+0000
TZNAME:UTC
DTSTART:20230101T000000
END:STANDARD
END:VTIMEZONE
BEGIN:VEVENT
DTSTART;VALUE=DATE:20240416
DTEND;VALUE=DATE:20240417
DTSTAMP:20260420T151407
CREATED:20240213T155654Z
LAST-MODIFIED:20240213T155654Z
UID:5482-1713225600-1713311999@hanschristianandersen.edu.pe
SUMMARY:Cierre parcial de registros
DESCRIPTION:
URL:https://hanschristianandersen.edu.pe/event/cierre-parcial-de-registros/
END:VEVENT
BEGIN:VEVENT
DTSTART;VALUE=DATE:20240419
DTEND;VALUE=DATE:20240420
DTSTAMP:20260420T151407
CREATED:20240213T155732Z
LAST-MODIFIED:20240213T155732Z
UID:5484-1713484800-1713571199@hanschristianandersen.edu.pe
SUMMARY:Informe académico parcial
DESCRIPTION:
URL:https://hanschristianandersen.edu.pe/event/informe-academico-parcial/
END:VEVENT
BEGIN:VEVENT
DTSTART;VALUE=DATE:20240424
DTEND;VALUE=DATE:20240425
DTSTAMP:20260420T151407
CREATED:20240213T155813Z
LAST-MODIFIED:20240213T155813Z
UID:5486-1713916800-1714003199@hanschristianandersen.edu.pe
SUMMARY:Elecciones del Municipio escolar
DESCRIPTION:
URL:https://hanschristianandersen.edu.pe/event/elecciones-del-municipio-escolar/
END:VEVENT
BEGIN:VEVENT
DTSTART;VALUE=DATE:20240429
DTEND;VALUE=DATE:20240430
DTSTAMP:20260420T151407
CREATED:20240213T155856Z
LAST-MODIFIED:20240213T155856Z
UID:5488-1714348800-1714435199@hanschristianandersen.edu.pe
SUMMARY:Juramentación de Municipio escolar
DESCRIPTION:
URL:https://hanschristianandersen.edu.pe/event/juramentacion-de-municipio-escolar/
END:VEVENT
END:VCALENDAR