BEGIN:VCALENDAR
VERSION:2.0
PRODID:-//Colegio Hans Christian Andersen - ECPv6.15.11//NONSGML v1.0//EN
CALSCALE:GREGORIAN
METHOD:PUBLISH
X-WR-CALNAME:Colegio Hans Christian Andersen
X-ORIGINAL-URL:https://hanschristianandersen.edu.pe
X-WR-CALDESC:Eventos para Colegio Hans Christian Andersen
REFRESH-INTERVAL;VALUE=DURATION:PT1H
X-Robots-Tag:noindex
X-PUBLISHED-TTL:PT1H
BEGIN:VTIMEZONE
TZID:UTC
BEGIN:STANDARD
TZOFFSETFROM:+0000
TZOFFSETTO:+0000
TZNAME:UTC
DTSTART:20220101T000000
END:STANDARD
END:VTIMEZONE
BEGIN:VEVENT
DTSTART;VALUE=DATE:20231103
DTEND;VALUE=DATE:20231104
DTSTAMP:20260424T105547
CREATED:20231030T144037Z
LAST-MODIFIED:20231030T144123Z
UID:5252-1698969600-1699055999@hanschristianandersen.edu.pe
SUMMARY:Eco Green Fest
DESCRIPTION:
URL:https://hanschristianandersen.edu.pe/event/eco-green-fest/
END:VEVENT
BEGIN:VEVENT
DTSTART;VALUE=DATE:20231106
DTEND;VALUE=DATE:20231107
DTSTAMP:20260424T105547
CREATED:20231030T151319Z
LAST-MODIFIED:20231030T151319Z
UID:5259-1699228800-1699315199@hanschristianandersen.edu.pe
SUMMARY:III Simulacro Nacional Multipeligro
DESCRIPTION:
URL:https://hanschristianandersen.edu.pe/event/iii-simulacro-nacional-multipeligro/
END:VEVENT
BEGIN:VEVENT
DTSTART;VALUE=DATE:20231106
DTEND;VALUE=DATE:20231111
DTSTAMP:20260424T105547
CREATED:20231030T151641Z
LAST-MODIFIED:20231030T151641Z
UID:5261-1699228800-1699660799@hanschristianandersen.edu.pe
SUMMARY:Olimpíadas Andersinas
DESCRIPTION:
URL:https://hanschristianandersen.edu.pe/event/olimpiadas-andersinas/
END:VEVENT
END:VCALENDAR