BEGIN:VCALENDAR
VERSION:2.0
PRODID:-//Colegio Hans Christian Andersen - ECPv6.15.11//NONSGML v1.0//EN
CALSCALE:GREGORIAN
METHOD:PUBLISH
X-ORIGINAL-URL:https://hanschristianandersen.edu.pe
X-WR-CALDESC:Eventos para Colegio Hans Christian Andersen
REFRESH-INTERVAL;VALUE=DURATION:PT1H
X-Robots-Tag:noindex
X-PUBLISHED-TTL:PT1H
BEGIN:VTIMEZONE
TZID:UTC
BEGIN:STANDARD
TZOFFSETFROM:+0000
TZOFFSETTO:+0000
TZNAME:UTC
DTSTART:20220101T000000
END:STANDARD
END:VTIMEZONE
BEGIN:VEVENT
DTSTART;VALUE=DATE:20230908
DTEND;VALUE=DATE:20230909
DTSTAMP:20260424T133813
CREATED:20230919T150714Z
LAST-MODIFIED:20230919T150816Z
UID:5156-1694131200-1694217599@hanschristianandersen.edu.pe
SUMMARY:Visita de estudio 3° secundaria
DESCRIPTION:
URL:https://hanschristianandersen.edu.pe/event/visita-de-estudio-3-secundaria/
END:VEVENT
BEGIN:VEVENT
DTSTART;VALUE=DATE:20230915
DTEND;VALUE=DATE:20230916
DTSTAMP:20260424T133813
CREATED:20230913T194909Z
LAST-MODIFIED:20230919T143208Z
UID:5117-1694736000-1694822399@hanschristianandersen.edu.pe
SUMMARY:Visita de estudio 2° secundaria
DESCRIPTION:
URL:https://hanschristianandersen.edu.pe/event/visita-de-estudio-2-secundaria/
END:VEVENT
BEGIN:VEVENT
DTSTART;TZID=UTC:20230918T080000
DTEND;TZID=UTC:20230921T160000
DTSTAMP:20260424T133813
CREATED:20230913T200600Z
LAST-MODIFIED:20230919T150149Z
UID:5120-1695024000-1695312000@hanschristianandersen.edu.pe
SUMMARY:!Hans Tiene Talento¡🎙🎸
DESCRIPTION:
URL:https://hanschristianandersen.edu.pe/event/hans-tiene-talento/
END:VEVENT
BEGIN:VEVENT
DTSTART;VALUE=DATE:20230922
DTEND;VALUE=DATE:20230923
DTSTAMP:20260424T133813
CREATED:20230913T200922Z
LAST-MODIFIED:20230919T143444Z
UID:5122-1695340800-1695427199@hanschristianandersen.edu.pe
SUMMARY:Aniversario del colegio 🎈
DESCRIPTION:
URL:https://hanschristianandersen.edu.pe/event/aniversario-del-colegio-%f0%9f%8e%88/
END:VEVENT
END:VCALENDAR